BEGIN:VCALENDAR
VERSION:2.0
PRODID:-//pretix//pretix.eu//
BEGIN:VTIMEZONE
TZID:Europe/Berlin
BEGIN:STANDARD
DTSTART:20001029T040000
RRULE:FREQ=YEARLY;BYDAY=-1SU;BYMONTH=10
TZNAME:CET
TZOFFSETFROM:+0200
TZOFFSETTO:+0100
END:STANDARD
BEGIN:DAYLIGHT
DTSTART:20000326T030000
RRULE:FREQ=YEARLY;BYDAY=-1SU;BYMONTH=3
TZNAME:CEST
TZOFFSETFROM:+0100
TZOFFSETTO:+0200
END:DAYLIGHT
END:VTIMEZONE
BEGIN:VEVENT
UID:pretix-agorion-u7crn-3-0@veranstaltung.agorion.de
DTSTART;TZID=Europe/Berlin:20250228T193000
DTEND;TZID=Europe/Berlin:20250228T230000
DESCRIPTION:Tickets: https://veranstaltung.agorion.de/u7crn-3/\nVeranstalte
 r: Astronomische Gesellschaft Orion Bad Homburg e.V.
DTSTAMP:20260419T122354Z
LOCATION:Volkssternwarte Hochtaunus\, - am Peter-Schall-Haus Bad Homburg Do
 rnholzhausen -\, Elisabethenschneise 2\, 61350 Bad Homburg vor der Höhe\,
  https://www.agorion.de/anfahrt/
SUMMARY:Öffentlicher Beobachtungsabend (ohne Kurzvortrag)* am Freitag\, 28
 .02.2025
END:VEVENT
END:VCALENDAR
